BEGIN:VCALENDAR
VERSION:2.0
PRODID:-//Weymouth &amp; Portland Chamber of Commerce - ECPv6.15.20//NONSGML v1.0//EN
CALSCALE:GREGORIAN
METHOD:PUBLISH
X-ORIGINAL-URL:https://www.wpchamber.co.uk
X-WR-CALDESC:Events for Weymouth &amp; Portland Chamber of Commerce
REFRESH-INTERVAL;VALUE=DURATION:PT1H
X-Robots-Tag:noindex
X-PUBLISHED-TTL:PT1H
BEGIN:VTIMEZONE
TZID:Europe/London
BEGIN:DAYLIGHT
TZOFFSETFROM:+0000
TZOFFSETTO:+0100
TZNAME:BST
DTSTART:20240331T010000
END:DAYLIGHT
BEGIN:STANDARD
TZOFFSETFROM:+0100
TZOFFSETTO:+0000
TZNAME:GMT
DTSTART:20241027T010000
END:STANDARD
BEGIN:DAYLIGHT
TZOFFSETFROM:+0000
TZOFFSETTO:+0100
TZNAME:BST
DTSTART:20250330T010000
END:DAYLIGHT
BEGIN:STANDARD
TZOFFSETFROM:+0100
TZOFFSETTO:+0000
TZNAME:GMT
DTSTART:20251026T010000
END:STANDARD
BEGIN:DAYLIGHT
TZOFFSETFROM:+0000
TZOFFSETTO:+0100
TZNAME:BST
DTSTART:20260329T010000
END:DAYLIGHT
BEGIN:STANDARD
TZOFFSETFROM:+0100
TZOFFSETTO:+0000
TZNAME:GMT
DTSTART:20261025T010000
END:STANDARD
END:VTIMEZONE
BEGIN:VEVENT
DTSTART;TZID=Europe/London:20250206T143000
DTEND;TZID=Europe/London:20250206T170000
DTSTAMP:20260423T174513
CREATED:20241008T204052Z
LAST-MODIFIED:20250205T114057Z
UID:12633-1738852200-1738861200@www.wpchamber.co.uk
SUMMARY:How to grow your business?
DESCRIPTION:Please join us for our Networking Special\, ‘How to Grow your business’\,  on the Weymouth Esplanade at Oliveto from 2.30pm to 5pm on the 6th February 2025. Join to learn from industry experts\, mentors and coaches on their top takeaways to grow your business today. Come along to hear from sponsor Duncan from Action Coach with their talk ‘The Power of a Dream:  How Vivid Visions Drive Success’. We also have Charlotte joining us from Sponsor JB Roofing and Cleaning with their talk ‘The importance of mapping your Business Landscape and how it enables organic growth within a business’. We also have two incredible guest speakers joining the event to deliver key information to help your business accelerate its growth in 2025. Firstly\, Sara from Live Well Dorset will talk to us about their health and wellbeing service and the cost benefits this can bring to your workplace by making it healthy. We also have Nick joining us from Dorset Growth Hub\, who will be talking to you regarding specific advice on support that is available to your business as well as access to finance support. \nThe event is open for anyone to attend\, including Chamber members and non members. Ticket prices includes an afternoon aperitivo of a selection of seasonal Italian Canapes and a choice of Aperol Spritz\, Campari Spritz\, Limoncello Spritz\, Peroni\, White or Red Wine. Served by the beautiful Italian restaurant located on Weymouth beach at the pier bandstand\, Oliveto. Speakers to be announced. \nMeet and greet the Chamber’s Executive board and other members of the Weymouth and Portland business community. Perhaps stay after for drinks in a wonderful setting. \nIf you are interested in sponsoring a future networking breakfast event to talk about or show us something you and your business are passionate about to a group of local business community persons\, please email info@wpchamber.co.uk. We would love to hear from you. \nWe look forward to welcoming you to the event.
URL:https://www.wpchamber.co.uk/event/how-to-grow-your-business/
LOCATION:Dorset
ORGANIZER;CN="WPCC":MAILTO:info@wpchamber.co.uk
END:VEVENT
END:VCALENDAR