BEGIN:VCALENDAR
VERSION:2.0
PRODID:-//Weymouth &amp; Portland Chamber of Commerce - ECPv6.15.20//NONSGML v1.0//EN
CALSCALE:GREGORIAN
METHOD:PUBLISH
X-WR-CALNAME:Weymouth &amp; Portland Chamber of Commerce
X-ORIGINAL-URL:https://www.wpchamber.co.uk
X-WR-CALDESC:Events for Weymouth &amp; Portland Chamber of Commerce
REFRESH-INTERVAL;VALUE=DURATION:PT1H
X-Robots-Tag:noindex
X-PUBLISHED-TTL:PT1H
BEGIN:VTIMEZONE
TZID:Europe/London
BEGIN:DAYLIGHT
TZOFFSETFROM:+0000
TZOFFSETTO:+0100
TZNAME:BST
DTSTART:20240331T010000
END:DAYLIGHT
BEGIN:STANDARD
TZOFFSETFROM:+0100
TZOFFSETTO:+0000
TZNAME:GMT
DTSTART:20241027T010000
END:STANDARD
BEGIN:DAYLIGHT
TZOFFSETFROM:+0000
TZOFFSETTO:+0100
TZNAME:BST
DTSTART:20250330T010000
END:DAYLIGHT
BEGIN:STANDARD
TZOFFSETFROM:+0100
TZOFFSETTO:+0000
TZNAME:GMT
DTSTART:20251026T010000
END:STANDARD
BEGIN:DAYLIGHT
TZOFFSETFROM:+0000
TZOFFSETTO:+0100
TZNAME:BST
DTSTART:20260329T010000
END:DAYLIGHT
BEGIN:STANDARD
TZOFFSETFROM:+0100
TZOFFSETTO:+0000
TZNAME:GMT
DTSTART:20261025T010000
END:STANDARD
END:VTIMEZONE
BEGIN:VEVENT
DTSTART;TZID=Europe/London:20250515T073000
DTEND;TZID=Europe/London:20250515T090000
DTSTAMP:20260422T201306
CREATED:20250109T213126Z
LAST-MODIFIED:20250514T084046Z
UID:12843-1747294200-1747299600@www.wpchamber.co.uk
SUMMARY:Behind the Scenes of the future of Weymouth
DESCRIPTION:Please join us for May’s Networking Breakfast on the 15th May on the Weymouth Esplanade at Oliveto from 7.30am to 9am. Learn from two passionate local businesses who are making waves. They will be telling us about behind the scenes of how they are planning for a brighter future of Weymouth. \nThe Breakfast is open for anyone to attend\, including Chamber members and non members. Ticket prices include a delicious Full English or Vegetarian Breakfast as well as a soft drink served by the beautiful Italian restaurant located on Weymouth beach at the pier bandstand\, Oliveto.  \n Julie Storey\, Events Manager at Weymouth Pavilion\n“Things You Don’t See on a Poster” – A behind-the-scenes look at the real impact of local events. \n Jack and Becky Carter\, Directors of South West Markets and Events\n“Building a Brighter Future” – How community-led events are creating economic and social energy across the region. \nMeet and greet the Chamber’s Executive board and other members of the Weymouth and Portland business community. If you are interested in sponsoring a future networking breakfast event to talk about or show us something you and your business are passionate about to a group of local business community persons\, please email in**@**********co.uk. We would love to hear from you. \nWe look forward to welcoming you to the event.
URL:https://www.wpchamber.co.uk/event/may-networking-breakfast/
LOCATION:Oliveto\, Oliveto\, Pier Bandstand\, The Esplanade\, Weymouth\, Dorset\, DT4 7RN\, United Kingdom
ORGANIZER;CN="WPCC":MAILTO:info@wpchamber.co.uk
END:VEVENT
END:VCALENDAR