BEGIN:VCALENDAR
VERSION:2.0
PRODID:-//Weymouth &amp; Portland Chamber of Commerce - ECPv6.15.20//NONSGML v1.0//EN
CALSCALE:GREGORIAN
METHOD:PUBLISH
X-WR-CALNAME:Weymouth &amp; Portland Chamber of Commerce
X-ORIGINAL-URL:https://www.wpchamber.co.uk
X-WR-CALDESC:Events for Weymouth &amp; Portland Chamber of Commerce
REFRESH-INTERVAL;VALUE=DURATION:PT1H
X-Robots-Tag:noindex
X-PUBLISHED-TTL:PT1H
BEGIN:VTIMEZONE
TZID:Europe/London
BEGIN:DAYLIGHT
TZOFFSETFROM:+0000
TZOFFSETTO:+0100
TZNAME:BST
DTSTART:20240331T010000
END:DAYLIGHT
BEGIN:STANDARD
TZOFFSETFROM:+0100
TZOFFSETTO:+0000
TZNAME:GMT
DTSTART:20241027T010000
END:STANDARD
BEGIN:DAYLIGHT
TZOFFSETFROM:+0000
TZOFFSETTO:+0100
TZNAME:BST
DTSTART:20250330T010000
END:DAYLIGHT
BEGIN:STANDARD
TZOFFSETFROM:+0100
TZOFFSETTO:+0000
TZNAME:GMT
DTSTART:20251026T010000
END:STANDARD
BEGIN:DAYLIGHT
TZOFFSETFROM:+0000
TZOFFSETTO:+0100
TZNAME:BST
DTSTART:20260329T010000
END:DAYLIGHT
BEGIN:STANDARD
TZOFFSETFROM:+0100
TZOFFSETTO:+0000
TZNAME:GMT
DTSTART:20261025T010000
END:STANDARD
END:VTIMEZONE
BEGIN:VEVENT
DTSTART;TZID=Europe/London:20250710T073000
DTEND;TZID=Europe/London:20250710T090000
DTSTAMP:20260420T034054
CREATED:20250109T213444Z
LAST-MODIFIED:20250704T132843Z
UID:12849-1752132600-1752138000@www.wpchamber.co.uk
SUMMARY:Work Together\, Grow Together
DESCRIPTION:We’re delighted to welcome Weymouth & Portland Round Table as speakers – an incredible group of volunteers who dedicate their time and energy to supporting local causes and building a stronger community. From fundraising to hands-on projects\, their work shows what can be achieved when people come together with purpose. Like the Chamber\, they’re all volunteers making a positive difference. \n  \n\nWe’re also pleased to be joined by The Combat Lab\, who will be talking about hosting Coastal Combat Lab on Weymouth Beach on the 19th July. You will hear about all the good things they do in the community. The ways in which Martial Arts and fitness can benefit everyone\, and the benefit of young people having a path to success and support. \n  \n  \n  \n \nAnd we’re excited to hear from Weymouth Surf Life Saving Club\, who will be telling us more about hosting the 2025 National Surf Life Saving Championships right here in Weymouth! This event is also a great opportunity for the town and local \nbusinesses 👏 \n  \n  \n💼 Whether you’re a sole trader\, part of a growing team\, or running a larger business\, this event is a great chance to connect with like-minded professionals\, share ideas\, and see how community involvement helps us all grow.
URL:https://www.wpchamber.co.uk/event/july-networking-breakfast-2/
LOCATION:Oliveto\, Oliveto\, Pier Bandstand\, The Esplanade\, Weymouth\, Dorset\, DT4 7RN\, United Kingdom
ORGANIZER;CN="WPCC":MAILTO:info@wpchamber.co.uk
END:VEVENT
END:VCALENDAR