BEGIN:VCALENDAR
VERSION:2.0
PRODID:-//Weymouth &amp; Portland Chamber of Commerce - ECPv6.15.20//NONSGML v1.0//EN
CALSCALE:GREGORIAN
METHOD:PUBLISH
X-ORIGINAL-URL:https://www.wpchamber.co.uk
X-WR-CALDESC:Events for Weymouth &amp; Portland Chamber of Commerce
REFRESH-INTERVAL;VALUE=DURATION:PT1H
X-Robots-Tag:noindex
X-PUBLISHED-TTL:PT1H
BEGIN:VTIMEZONE
TZID:Europe/London
BEGIN:DAYLIGHT
TZOFFSETFROM:+0000
TZOFFSETTO:+0100
TZNAME:BST
DTSTART:20240331T010000
END:DAYLIGHT
BEGIN:STANDARD
TZOFFSETFROM:+0100
TZOFFSETTO:+0000
TZNAME:GMT
DTSTART:20241027T010000
END:STANDARD
BEGIN:DAYLIGHT
TZOFFSETFROM:+0000
TZOFFSETTO:+0100
TZNAME:BST
DTSTART:20250330T010000
END:DAYLIGHT
BEGIN:STANDARD
TZOFFSETFROM:+0100
TZOFFSETTO:+0000
TZNAME:GMT
DTSTART:20251026T010000
END:STANDARD
BEGIN:DAYLIGHT
TZOFFSETFROM:+0000
TZOFFSETTO:+0100
TZNAME:BST
DTSTART:20260329T010000
END:DAYLIGHT
BEGIN:STANDARD
TZOFFSETFROM:+0100
TZOFFSETTO:+0000
TZNAME:GMT
DTSTART:20261025T010000
END:STANDARD
END:VTIMEZONE
BEGIN:VEVENT
DTSTART;TZID=Europe/London:20250828T180000
DTEND;TZID=Europe/London:20250828T210000
DTSTAMP:20260420T020729
CREATED:20250725T180256Z
LAST-MODIFIED:20250827T153056Z
UID:13504-1756404000-1756414800@www.wpchamber.co.uk
SUMMARY:August Expo @ Bacaro
DESCRIPTION:🎉 You’re Invited: Weymouth & Portland Chamber of Commerce August Expo \n📅 Thursday 28th August | 🕕 6:00pm\n\n📍 Bacaro\, The Esplanade\, Weymouth\n\n🎟️ £20 per person – includes a welcome drink and light buffet\n\nJoin us for a relaxed\, social evening at Bacaro – a chance to connect with fellow Chamber members\, chat with the Executive Committee\, and discover more about the people behind the businesses. This is more than just networking – it’s about building relationships\, sharing ideas\, and learning what drives our members\, both in and out of work.\n\n🤝 Proudly Sponsored by Blanchards Bailey Solicitors\n\nWe’re delighted to be working alongside Blanchards Bailey Solicitors\, who are generously sponsoring this event.\nA respected Dorset law firm with a strong reputation for professionalism and community support\, Blanchards Bailey share our vision of bringing local businesses together.\nTheir team is passionate about supporting the growth and success of enterprises in our region\, and we’re proud to collaborate with them to bring valuable events and resources to our members.\n\n✨ Whether you’re a Chamber regular or thinking of joining – everyone is welcome.\nCome along\, enjoy great company\, and see what the Chamber or its members can offer you and your business.\n\n👉 Book your place today and be part of the conversation!
URL:https://www.wpchamber.co.uk/event/august-expo-bacaro/
LOCATION:Bacaro\, The Esplanade\, Weymouth
ORGANIZER;CN="WPCC":MAILTO:info@wpchamber.co.uk
END:VEVENT
END:VCALENDAR