BEGIN:VCALENDAR
VERSION:2.0
PRODID:-//Weymouth &amp; Portland Chamber of Commerce - ECPv6.15.20//NONSGML v1.0//EN
CALSCALE:GREGORIAN
METHOD:PUBLISH
X-WR-CALNAME:Weymouth &amp; Portland Chamber of Commerce
X-ORIGINAL-URL:https://www.wpchamber.co.uk
X-WR-CALDESC:Events for Weymouth &amp; Portland Chamber of Commerce
REFRESH-INTERVAL;VALUE=DURATION:PT1H
X-Robots-Tag:noindex
X-PUBLISHED-TTL:PT1H
BEGIN:VTIMEZONE
TZID:Europe/London
BEGIN:DAYLIGHT
TZOFFSETFROM:+0000
TZOFFSETTO:+0100
TZNAME:BST
DTSTART:20240331T010000
END:DAYLIGHT
BEGIN:STANDARD
TZOFFSETFROM:+0100
TZOFFSETTO:+0000
TZNAME:GMT
DTSTART:20241027T010000
END:STANDARD
BEGIN:DAYLIGHT
TZOFFSETFROM:+0000
TZOFFSETTO:+0100
TZNAME:BST
DTSTART:20250330T010000
END:DAYLIGHT
BEGIN:STANDARD
TZOFFSETFROM:+0100
TZOFFSETTO:+0000
TZNAME:GMT
DTSTART:20251026T010000
END:STANDARD
BEGIN:DAYLIGHT
TZOFFSETFROM:+0000
TZOFFSETTO:+0100
TZNAME:BST
DTSTART:20260329T010000
END:DAYLIGHT
BEGIN:STANDARD
TZOFFSETFROM:+0100
TZOFFSETTO:+0000
TZNAME:GMT
DTSTART:20261025T010000
END:STANDARD
BEGIN:DAYLIGHT
TZOFFSETFROM:+0000
TZOFFSETTO:+0100
TZNAME:BST
DTSTART:20270328T010000
END:DAYLIGHT
BEGIN:STANDARD
TZOFFSETFROM:+0100
TZOFFSETTO:+0000
TZNAME:GMT
DTSTART:20271031T010000
END:STANDARD
END:VTIMEZONE
BEGIN:VEVENT
DTSTART;TZID=Europe/London:20250918T143000
DTEND;TZID=Europe/London:20250918T170000
DTSTAMP:20260420T034417
CREATED:20250109T213846Z
LAST-MODIFIED:20250912T100319Z
UID:12855-1758205800-1758214800@www.wpchamber.co.uk
SUMMARY:Insight. Inspiration. Impact
DESCRIPTION:Please join us for September’s Afternoon Aperitivo on 18th September at the Weymouth Esplanade at Oliveto from 2.30pm to 5pm. Come along inspiring afternoon of local impact stories and community-led initiatives: \n🎙️ Andrew Wiley – YFW Bloodbikes\nLearn how this volunteer-run service supports the NHS with urgent deliveries. A blood bike will be on display! 🏍️ \n🎙️ Rocca Holly-Nambi – b-side\nGet an insider’s view on Portland & Weymouth: Town of Culture 2025\, and how your business can get involved. \n🎙️ Sam Cloud – 100 & First Foundation\nHear how this local charity is supporting mental health and wellbeing across the area. \n💬 It’s a fantastic chance to connect\, collaborate\, and be inspired by the people making a difference in our community. \nWe look forward to welcoming you to the event.
URL:https://www.wpchamber.co.uk/event/septembers-networking-afternoon/
LOCATION:Oliveto\, Oliveto\, Pier Bandstand\, The Esplanade\, Weymouth\, Dorset\, DT4 7RN\, United Kingdom
ORGANIZER;CN="WPCC":MAILTO:info@wpchamber.co.uk
END:VEVENT
BEGIN:VEVENT
DTSTART;TZID=Europe/London:20251009T073000
DTEND;TZID=Europe/London:20251009T090000
DTSTAMP:20260420T034417
CREATED:20250109T214024Z
LAST-MODIFIED:20251007T092753Z
UID:12858-1759995000-1760000400@www.wpchamber.co.uk
SUMMARY:October's Networking Breakfast
DESCRIPTION:Please join us for October’s Networking Breakfast on the 9th October on the Weymouth Esplanade at Oliveto from 7.30am to 9am. \nThe Breakfast is open for anyone to attend\, including Chamber members and non members. Ticket prices include a delicious Full English or Vegetarian Breakfast as well as a soft drink served by the beautiful Italian restaurant located on Weymouth beach at the pier bandstand\, Oliveto. The event includes three incredible speakers who will be sharing incredible insights: \n\nBlanchards Bailey – sharing valuable legal insights for businesses navigating today’s challenges.\nChanging Tides – the remarkable charity rowing 3\,000 miles across the Atlantic to raise awareness for mental health and second chances.\nWeymouth Area Development Trust (WADT) – fresh from opening their very first co-working space\, they’ll share how it’s creating opportunities for collaboration and growth in our town.\n\n••This promises to be an energising morning of networking and ideas\, with plenty of opportunity to connect\, learn\, and leave inspired. \nIf you are interested in sponsoring a future networking breakfast event to talk about or show us something you and your business are passionate about to a group of local business community persons\, please email in**@**********co.uk. We would love to hear from you. \nWe look forward to welcoming you to the event.
URL:https://www.wpchamber.co.uk/event/october-networking-breakfast/
LOCATION:Oliveto\, Oliveto\, Pier Bandstand\, The Esplanade\, Weymouth\, Dorset\, DT4 7RN\, United Kingdom
ORGANIZER;CN="WPCC":MAILTO:info@wpchamber.co.uk
END:VEVENT
BEGIN:VEVENT
DTSTART;TZID=Europe/London:20251128T183000
DTEND;TZID=Europe/London:20251128T233000
DTSTAMP:20260420T034417
CREATED:20250109T214756Z
LAST-MODIFIED:20251023T103029Z
UID:12864-1764354600-1764372600@www.wpchamber.co.uk
SUMMARY:WPCC Christmas Party - Save the Date!
DESCRIPTION:Join us for an enchanting evening at the Weymouth and Portland Chamber of Commerce Christmas Party hosted at Oliveto. \nFriday 28th November 2025 6.30pm till late. \nJoin us for a fun filled evening of festivities including food\, drinks and entertainment in a beautiful setting surrounded by fellow business and community personalities. \nPlease arrive for drinks at 6.30pm for a 7pm start. \nWe have opportunities for table sponsorship\, offering excellent exposure and a festive way to connect with our local business community. Please email in**@**********co.uk \nDon’t miss this perfect start to the holiday season. \nMenu
URL:https://www.wpchamber.co.uk/event/wpcc-christmas-party-save-the-date/
LOCATION:Oliveto\, Oliveto\, Pier Bandstand\, The Esplanade\, Weymouth\, Dorset\, DT4 7RN\, United Kingdom
ATTACH;FMTTYPE=image/webp:https://www.wpchamber.co.uk/wp-content/uploads/2025/01/Jingle-Mingle-2025-1.webp
ORGANIZER;CN="WPCC":MAILTO:info@wpchamber.co.uk
END:VEVENT
BEGIN:VEVENT
DTSTART;TZID=Europe/London:20251205T071500
DTEND;TZID=Europe/London:20251205T090000
DTSTAMP:20260420T034417
CREATED:20250109T214251Z
LAST-MODIFIED:20251127T151121Z
UID:12861-1764918900-1764925200@www.wpchamber.co.uk
SUMMARY:Autumn Budget & what it means to you
DESCRIPTION:Please join us for a Budget Breakfast Meeting on the Weymouth Esplanade at Oliveto from 7.15am to 9am. \nBook your place at this event to learn about the implications of the Autumn budget – how will this affect you and your business. We’re excited to announce that Blanchards Bailey and Albert Goodman are proudly sponsoring our special December event. Join us for an insightful event where we will be joined by Mike House\, who is a Partner at Albert Goodman and Sam Russell\, Assistant Manager. Representing Blanchards Bailey\, Catherine Roberts\, Partner & Head of Probate\, and Emma Needham\, Partner & Head of Wills & Estate Planning\, will be joining us as guest speakers. They will provide a breakdown of the Chancellor’s speech to highlight key points from the budget and discuss what this means for you and your business. This is a fantastic opportunity to hear their views and ask questions on what was announced and how this might affect you\, your business and the economy as a whole. The key areas of speculation which are likely to be discussed are:  \n\nCapital Gains Tax\nInheritance Tax\nNational Insurance\nVAT on private schools\nPensions\n\nAdditionally\, we are excited to welcome MP Lloyd Hatton\, who will be around for conversations and catch ups. Don’t miss your chance to connect with Chamber members and the local business community\, where you can share ideas and chat about how this budget may impact you! This is set to be a fantastic festive gathering – a must-attend event! Get your tickets now and secure your spot! \nThe Breakfast is open for anyone to attend\, including Chamber members and non members. Ticket prices include a delicious Full English or Vegetarian Breakfast as well as a hot and soft drinks served by the beautiful Italian restaurant located on Weymouth beach at the pier bandstand\, Oliveto. \nPlease email in**@**********co.uk if you have any specific dietary requirements.
URL:https://www.wpchamber.co.uk/event/novembers-networking-afternoon/
LOCATION:Oliveto\, Oliveto\, Pier Bandstand\, The Esplanade\, Weymouth\, Dorset\, DT4 7RN\, United Kingdom
ATTACH;FMTTYPE=image/webp:https://www.wpchamber.co.uk/wp-content/uploads/2025/01/WPCC-Event-Design-3A-Talk.webp
ORGANIZER;CN="WPCC":MAILTO:info@wpchamber.co.uk
END:VEVENT
BEGIN:VEVENT
DTSTART;TZID=Europe/London:20260129T143000
DTEND;TZID=Europe/London:20260129T170000
DTSTAMP:20260420T034417
CREATED:20251125T103726Z
LAST-MODIFIED:20260128T140544Z
UID:13955-1769697000-1769706000@www.wpchamber.co.uk
SUMMARY:Supporting Local Employers Through Training
DESCRIPTION:  \n  \nSupporting local employers is at the heart of what we do\, so we’re proud to sponsor this Weymouth and Portland Chamber event. \nWorking closely with businesses across Dorset helps us shape training that’s relevant\, practical and future-focused\, while creating real opportunities for collaboration\, growth and skills development. \nEvents like this also allow us to showcase how apprenticeships\, workforce training and upskilling opportunities can support employers to attract\, develop and retain talent. \nDon’t miss your chance to connect with Chamber members and the local business community\, where you can share ideas and chat about how this budget may impact you! \nWe look forward to welcoming you to the event.#
URL:https://www.wpchamber.co.uk/event/wpcc-january-networking-event/
LOCATION:Oliveto\, Oliveto\, Pier Bandstand\, The Esplanade\, Weymouth\, Dorset\, DT4 7RN\, United Kingdom
CATEGORIES:Lunch
ATTACH;FMTTYPE=image/webp:https://www.wpchamber.co.uk/wp-content/uploads/2025/11/WPCC-Event-Design-1A.webp
ORGANIZER;CN="WPCC":MAILTO:info@wpchamber.co.uk
END:VEVENT
BEGIN:VEVENT
DTSTART;TZID=Europe/London:20260224T180000
DTEND;TZID=Europe/London:20260224T180000
DTSTAMP:20260420T034417
CREATED:20251120T074552Z
LAST-MODIFIED:20251120T091435Z
UID:13917-1771956000-1771956000@www.wpchamber.co.uk
SUMMARY:AGM: Annual General Meeting 2026
DESCRIPTION:Please note: Time of event not confirmed yet. \nThe event is open for anyone to attend\, including Chamber members and non members. Content and sponsors for this event will be announced in due course. \nIf you are interested in sponsoring a future networking event to talk about or show us something you and your business are passionate about to a group of local business community persons\, please email in**@**********co.uk. We would love to hear from you. \nDon’t miss your chance to connect with Chamber members and the local business community\, where you can share ideas and chat about how this budget may impact you! \nWe look forward to welcoming you to the event. \n 
URL:https://www.wpchamber.co.uk/event/agm-annual-general-meeting-2026/
LOCATION:Oliveto\, Oliveto\, Pier Bandstand\, The Esplanade\, Weymouth\, Dorset\, DT4 7RN\, United Kingdom
CATEGORIES:AGM
ATTACH;FMTTYPE=image/webp:https://www.wpchamber.co.uk/wp-content/uploads/2025/11/WPCC-Event-Design-2A-AGM.webp
ORGANIZER;CN="WPCC":MAILTO:info@wpchamber.co.uk
END:VEVENT
BEGIN:VEVENT
DTSTART;TZID=Europe/London:20260312T071500
DTEND;TZID=Europe/London:20260312T090000
DTSTAMP:20260420T034417
CREATED:20251120T075725Z
LAST-MODIFIED:20260311T123417Z
UID:13920-1773299700-1773306000@www.wpchamber.co.uk
SUMMARY:WPCC Employment Law - what's changing and what you need to know
DESCRIPTION:We are delighted to hear from Sophia Radford\, Employment Law Solicitor at Blanchards Bailey LLP\,ll  who will be discussing the Employment Rights Act 2025 – one of the most significant pieces of employment legislation in 30 years impacting organisations of every size. Sophia will set out insights on the key changes coming into effect in April 2026 and provide practical guidance for employers on the steps they should have in place now and how to prepare for future changes such as the imminent unfair dismissal rights from 6 months. With employees having a far greater awareness of their employment rights and the assistance of AI it is key that businesses understand their obligations and feel confident in implementing the new legislation. This is a great opportunity to stay one step ahead and prepare your roadmap for change.     \nPlease note there are vegetarian or full English options for Breakfast. \n  \n \n 
URL:https://www.wpchamber.co.uk/event/wpcc-march-networking-event/
LOCATION:Oliveto\, Oliveto\, Pier Bandstand\, The Esplanade\, Weymouth\, Dorset\, DT4 7RN\, United Kingdom
CATEGORIES:Breakfast
ATTACH;FMTTYPE=image/webp:https://www.wpchamber.co.uk/wp-content/uploads/2025/11/WPCC-Event-Design-1A.webp
ORGANIZER;CN="WPCC":MAILTO:info@wpchamber.co.uk
END:VEVENT
BEGIN:VEVENT
DTSTART;TZID=Europe/London:20260409T143000
DTEND;TZID=Europe/London:20260409T170000
DTSTAMP:20260420T034417
CREATED:20251120T075928Z
LAST-MODIFIED:20260408T150351Z
UID:13921-1775745000-1775754000@www.wpchamber.co.uk
SUMMARY:WPCC April Networking Event
DESCRIPTION:We’ll be bringing together key decision-makers behind the regeneration of Weymouth and Portland\, including Matt Piles from Dorset Council\, alongside delivery partners Willmott Dixon and Milligan. \nThis is a rare opportunity to hear first-hand what’s planned\, what’s coming next\, and—most importantly—how it will impact local businesses\, footfall\, and future investment in the area. \nWe will also hear from James Farquharson\, Chair of  Weymouth Civic Society.  He will be sharing how they aim to protect and integrate Weymouth’s heritage as these developments move forward. \nIf your business operates in Weymouth or Portland\, this conversation directly affects you. Being in the room means understanding what’s ahead\, asking questions\, and positioning yourself early. \nMiss it\, and you’ll be hearing about it second-hand \nWe look forward to welcoming you to the event. \n 
URL:https://www.wpchamber.co.uk/event/wpcc-april-networking-event/
LOCATION:Oliveto\, Oliveto\, Pier Bandstand\, The Esplanade\, Weymouth\, Dorset\, DT4 7RN\, United Kingdom
CATEGORIES:Lunch
ATTACH;FMTTYPE=image/webp:https://www.wpchamber.co.uk/wp-content/uploads/2025/11/WPCC-Event-Design-1A.webp
ORGANIZER;CN="WPCC":MAILTO:info@wpchamber.co.uk
END:VEVENT
BEGIN:VEVENT
DTSTART;TZID=Europe/London:20260514T071500
DTEND;TZID=Europe/London:20260514T090000
DTSTAMP:20260420T034417
CREATED:20251120T075957Z
LAST-MODIFIED:20260416T151012Z
UID:13922-1778742900-1778749200@www.wpchamber.co.uk
SUMMARY:WPCC May Networking Event
DESCRIPTION:The event is open for anyone to attend\, including Chamber members and non members. Content and sponsors for this event will be announced in due course. \nIf you are interested in sponsoring a future networking event to talk about or show us something you and your business are passionate about to a group of local business community persons\, please email in**@**********co.uk. We would love to hear from you. \nDon’t miss your chance to connect with Chamber members and the local business community\, where you can share ideas and chat about how this budget may impact you! \nWe look forward to welcoming you to the event. \n 
URL:https://www.wpchamber.co.uk/event/wpcc-may-networking-event/
LOCATION:Oliveto\, Oliveto\, Pier Bandstand\, The Esplanade\, Weymouth\, Dorset\, DT4 7RN\, United Kingdom
CATEGORIES:Breakfast
ATTACH;FMTTYPE=image/webp:https://www.wpchamber.co.uk/wp-content/uploads/2025/11/WPCC-Event-Design-1A.webp
ORGANIZER;CN="WPCC":MAILTO:info@wpchamber.co.uk
END:VEVENT
BEGIN:VEVENT
DTSTART;TZID=Europe/London:20260611T143000
DTEND;TZID=Europe/London:20260611T170000
DTSTAMP:20260420T034417
CREATED:20251120T080029Z
LAST-MODIFIED:20251125T104106Z
UID:13923-1781188200-1781197200@www.wpchamber.co.uk
SUMMARY:WPCC June Networking Event
DESCRIPTION:Please note: Time of event not confirmed yet. \nThe event is open for anyone to attend\, including Chamber members and non members. Content and sponsors for this event will be announced in due course. \nIf you are interested in sponsoring a future networking event to talk about or show us something you and your business are passionate about to a group of local business community persons\, please email in**@**********co.uk. We would love to hear from you. \nDon’t miss your chance to connect with Chamber members and the local business community\, where you can share ideas and chat about how this budget may impact you! \nWe look forward to welcoming you to the event. \n 
URL:https://www.wpchamber.co.uk/event/wpcc-june-networking-event/
LOCATION:Oliveto\, Oliveto\, Pier Bandstand\, The Esplanade\, Weymouth\, Dorset\, DT4 7RN\, United Kingdom
CATEGORIES:Lunch
ATTACH;FMTTYPE=image/webp:https://www.wpchamber.co.uk/wp-content/uploads/2025/11/WPCC-Event-Design-1A.webp
ORGANIZER;CN="WPCC":MAILTO:info@wpchamber.co.uk
END:VEVENT
BEGIN:VEVENT
DTSTART;TZID=Europe/London:20260709T071500
DTEND;TZID=Europe/London:20260709T090000
DTSTAMP:20260420T034417
CREATED:20251120T080102Z
LAST-MODIFIED:20251125T103933Z
UID:13924-1783581300-1783587600@www.wpchamber.co.uk
SUMMARY:WPCC July Networking Event
DESCRIPTION:Please note: Time of event not confirmed yet. \nThe event is open for anyone to attend\, including Chamber members and non members. Content and sponsors for this event will be announced in due course. \nIf you are interested in sponsoring a future networking event to talk about or show us something you and your business are passionate about to a group of local business community persons\, please email in**@**********co.uk. We would love to hear from you. \nDon’t miss your chance to connect with Chamber members and the local business community\, where you can share ideas and chat about how this budget may impact you! \nWe look forward to welcoming you to the event. \n 
URL:https://www.wpchamber.co.uk/event/wpcc-july-networking-event/
LOCATION:Oliveto\, Oliveto\, Pier Bandstand\, The Esplanade\, Weymouth\, Dorset\, DT4 7RN\, United Kingdom
CATEGORIES:Breakfast
ATTACH;FMTTYPE=image/webp:https://www.wpchamber.co.uk/wp-content/uploads/2025/11/WPCC-Event-Design-1A.webp
ORGANIZER;CN="WPCC":MAILTO:info@wpchamber.co.uk
END:VEVENT
BEGIN:VEVENT
DTSTART;TZID=Europe/London:20260910T143000
DTEND;TZID=Europe/London:20260910T170000
DTSTAMP:20260420T034417
CREATED:20251120T080159Z
LAST-MODIFIED:20251125T104112Z
UID:13925-1789050600-1789059600@www.wpchamber.co.uk
SUMMARY:WPCC September Networking Event
DESCRIPTION:Please note: Time of event not confirmed yet. \nThe event is open for anyone to attend\, including Chamber members and non members. Content and sponsors for this event will be announced in due course. \nIf you are interested in sponsoring a future networking event to talk about or show us something you and your business are passionate about to a group of local business community persons\, please email in**@**********co.uk. We would love to hear from you. \nDon’t miss your chance to connect with Chamber members and the local business community\, where you can share ideas and chat about how this budget may impact you! \nWe look forward to welcoming you to the event. \n 
URL:https://www.wpchamber.co.uk/event/wpcc-august-networking-event/
LOCATION:Oliveto\, Oliveto\, Pier Bandstand\, The Esplanade\, Weymouth\, Dorset\, DT4 7RN\, United Kingdom
CATEGORIES:Lunch
ATTACH;FMTTYPE=image/webp:https://www.wpchamber.co.uk/wp-content/uploads/2025/11/WPCC-Event-Design-1A.webp
ORGANIZER;CN="WPCC":MAILTO:info@wpchamber.co.uk
END:VEVENT
BEGIN:VEVENT
DTSTART;TZID=Europe/London:20261008T071500
DTEND;TZID=Europe/London:20261008T090000
DTSTAMP:20260420T034417
CREATED:20251120T080310Z
LAST-MODIFIED:20251125T103931Z
UID:13926-1791443700-1791450000@www.wpchamber.co.uk
SUMMARY:WPCC October Networking Event
DESCRIPTION:Please note: Time of event not confirmed yet. \nThe event is open for anyone to attend\, including Chamber members and non members. Content and sponsors for this event will be announced in due course. \nIf you are interested in sponsoring a future networking event to talk about or show us something you and your business are passionate about to a group of local business community persons\, please email in**@**********co.uk. We would love to hear from you. \nDon’t miss your chance to connect with Chamber members and the local business community\, where you can share ideas and chat about how this budget may impact you! \nWe look forward to welcoming you to the event. \n 
URL:https://www.wpchamber.co.uk/event/wpcc-october-networking-event/
LOCATION:Oliveto\, Oliveto\, Pier Bandstand\, The Esplanade\, Weymouth\, Dorset\, DT4 7RN\, United Kingdom
CATEGORIES:Breakfast
ATTACH;FMTTYPE=image/webp:https://www.wpchamber.co.uk/wp-content/uploads/2025/11/WPCC-Event-Design-1A.webp
ORGANIZER;CN="WPCC":MAILTO:info@wpchamber.co.uk
END:VEVENT
BEGIN:VEVENT
DTSTART;TZID=Europe/London:20261112T143000
DTEND;TZID=Europe/London:20261112T170000
DTSTAMP:20260420T034417
CREATED:20251120T080340Z
LAST-MODIFIED:20251125T104118Z
UID:13927-1794493800-1794502800@www.wpchamber.co.uk
SUMMARY:WPCC November Networking Event
DESCRIPTION:Please note: Time of event not confirmed yet. \nThe event is open for anyone to attend\, including Chamber members and non members. Content and sponsors for this event will be announced in due course. \nIf you are interested in sponsoring a future networking event to talk about or show us something you and your business are passionate about to a group of local business community persons\, please email in**@**********co.uk. We would love to hear from you. \nDon’t miss your chance to connect with Chamber members and the local business community\, where you can share ideas and chat about how this budget may impact you! \nWe look forward to welcoming you to the event. \n 
URL:https://www.wpchamber.co.uk/event/wpcc-november-networking-event/
LOCATION:Oliveto\, Oliveto\, Pier Bandstand\, The Esplanade\, Weymouth\, Dorset\, DT4 7RN\, United Kingdom
CATEGORIES:Lunch
ATTACH;FMTTYPE=image/webp:https://www.wpchamber.co.uk/wp-content/uploads/2025/11/WPCC-Event-Design-1A.webp
ORGANIZER;CN="WPCC":MAILTO:info@wpchamber.co.uk
END:VEVENT
BEGIN:VEVENT
DTSTART;TZID=Europe/London:20261126T183000
DTEND;TZID=Europe/London:20261126T233000
DTSTAMP:20260420T034417
CREATED:20251120T080517Z
LAST-MODIFIED:20251120T080523Z
UID:13928-1795717800-1795735800@www.wpchamber.co.uk
SUMMARY:WPCC Christmas Party - Save the Date!
DESCRIPTION:Please note: Time of event not confirmed yet. \nThe event is open for anyone to attend\, including Chamber members and non members. Content and sponsors for this event will be announced in due course. \nIf you are interested in sponsoring a future networking event to talk about or show us something you and your business are passionate about to a group of local business community persons\, please email in**@**********co.uk. We would love to hear from you. \nDon’t miss your chance to connect with Chamber members and the local business community\, where you can share ideas and chat about how this budget may impact you! \nWe look forward to welcoming you to the event.
URL:https://www.wpchamber.co.uk/event/wpcc-christmas-party-2026/
LOCATION:Oliveto\, Oliveto\, Pier Bandstand\, The Esplanade\, Weymouth\, Dorset\, DT4 7RN\, United Kingdom
CATEGORIES:Xmas Dinner
ATTACH;FMTTYPE=image/webp:https://www.wpchamber.co.uk/wp-content/uploads/2025/01/Jingle-Mingle-2025-1.webp
ORGANIZER;CN="WPCC":MAILTO:info@wpchamber.co.uk
END:VEVENT
END:VCALENDAR