BEGIN:VCALENDAR
VERSION:2.0
PRODID:-//Weymouth &amp; Portland Chamber of Commerce - ECPv6.15.20//NONSGML v1.0//EN
CALSCALE:GREGORIAN
METHOD:PUBLISH
X-WR-CALNAME:Weymouth &amp; Portland Chamber of Commerce
X-ORIGINAL-URL:https://www.wpchamber.co.uk
X-WR-CALDESC:Events for Weymouth &amp; Portland Chamber of Commerce
REFRESH-INTERVAL;VALUE=DURATION:PT1H
X-Robots-Tag:noindex
X-PUBLISHED-TTL:PT1H
BEGIN:VTIMEZONE
TZID:Europe/London
BEGIN:DAYLIGHT
TZOFFSETFROM:+0000
TZOFFSETTO:+0100
TZNAME:BST
DTSTART:20220327T010000
END:DAYLIGHT
BEGIN:STANDARD
TZOFFSETFROM:+0100
TZOFFSETTO:+0000
TZNAME:GMT
DTSTART:20221030T010000
END:STANDARD
BEGIN:DAYLIGHT
TZOFFSETFROM:+0000
TZOFFSETTO:+0100
TZNAME:BST
DTSTART:20230326T010000
END:DAYLIGHT
BEGIN:STANDARD
TZOFFSETFROM:+0100
TZOFFSETTO:+0000
TZNAME:GMT
DTSTART:20231029T010000
END:STANDARD
BEGIN:DAYLIGHT
TZOFFSETFROM:+0000
TZOFFSETTO:+0100
TZNAME:BST
DTSTART:20240331T010000
END:DAYLIGHT
BEGIN:STANDARD
TZOFFSETFROM:+0100
TZOFFSETTO:+0000
TZNAME:GMT
DTSTART:20241027T010000
END:STANDARD
END:VTIMEZONE
BEGIN:VEVENT
DTSTART;TZID=Europe/London:20231208T190000
DTEND;TZID=Europe/London:20231208T235900
DTSTAMP:20260419T220437
CREATED:20231004T091037Z
LAST-MODIFIED:20231204T115332Z
UID:11505-1702062000-1702079940@www.wpchamber.co.uk
SUMMARY:2nd Annual Gala Christmas Dinner
DESCRIPTION:Ticket sales are closed.  \nSorry if you missed out.  \nThere’s a small possibility of a ticket\, please email in**@**********co.uk if you missed out.\n \nYou missed your invitation to our 2nd Annual Weymouth and Portland Chamber of Commerce\nGala Christmas Dinner. \nNo Tickets Available. \nYou’re missing out on: \n\n3 course Christmas Dinner\nLocal Leaders and Personalities\n\nLive Band – Under the Carousel\n\nBusiness networking\nBlack Tie or Business Attire\n\nNo Sponsorship Opportunities Available.\nOur thanks to headline sponsor the amazing Albert Goodman. \nYou might be able to tickets from se*******@**********co.uk\nPlease let us know by email if you have any specific dietary requirements. Step-free access available at the rear of the hotel please let us know if you need this access.
URL:https://www.wpchamber.co.uk/event/2nd-annual-gala-christmas-dinner/
LOCATION:Royal Hotel\, 90-91 The Esplanade\, Weymouth\, Dorset\, DT4 7AX\, United Kingdom
CATEGORIES:Xmas Dinner
ATTACH;FMTTYPE=image/png:https://www.wpchamber.co.uk/wp-content/uploads/2023/10/GCD4.png
ORGANIZER;CN="WPCC":MAILTO:info@wpchamber.co.uk
END:VEVENT
END:VCALENDAR